BEGIN:VCALENDAR
VERSION:2.0
PRODID:heroldsberg.gruene-erlangen-land.de
METHOD:PUBLISH
BEGIN:VTIMEZONE
TZID:Europe/Berlin
X-LIC-LOCATION:Europe/Berlin
BEGIN:DAYLIGHT
TZOFFSETFROM:+0100
TZOFFSETTO:+0200
TZNAME:CEST
DTSTART:19700329T020000
RRULE:FREQ=YEARLY;INTERVAL=1;BYDAY=-1SU;BYMONTH=3
END:DAYLIGHT
BEGIN:STANDARD
TZOFFSETFROM:+0200
TZOFFSETTO:+0100
TZNAME:CET
DTSTART:19701025T030000
RRULE:FREQ=YEARLY;INTERVAL=1;BYDAY=-1SU;BYMONTH=10
END:STANDARD
END:VTIMEZONE
BEGIN:VEVENT
UID:5c33ba98174f1c5a0f86affaec8c295d@heroldsberg.gruene-erlangen-land.de
URL;VALUE=URI:https://heroldsberg.gruene-erlangen-land.de/termine/gruener
 -treff-23-4/
LOCATION:BierRaum, Hauptstraße 67, Heroldsberg
SUMMARY:Grüner Treff 23. 4.
DESCRIPTION;ALTREP="data:text/html,%0A%3Cp%3EDie%20Heroldsberger%20Gr%C3%
 BCnen%20laden%20am%20Donnerstag%2C%20den%2023.%20April%2C%3Cbr%3Eum%2019%
 20Uhr%20alle%20Mitglieder%2C%20Aktive%20und%20Interessierten%20ein%20zum%
 20Gr%C3%BCnen%20Treff%20im%20BierRaum%2C%3Cbr%3EHauptstra%C3%9Fe%2067%20i
 n%20Heroldsberg.%3C%2Fp%3E%0A%0A%0A%0A%3Cp%3EWir%20wollen%20uns%20%C3%BCb
 er%20das%20Planfeststellungsverfahren%20%22B2%20Radweg%20Heroldsberg%20-%
 20N%C3%BCrnberg%22%20austauschen.%20Es%20werden%20Vertreter%20von%20ADFC%
 2C%20VCD%20und%20BUND%20erwartet.%20Unterlagen%20%28PDF-Dokumente%29%20un
 ter%3Cbr%3E%3Ca%20href%3D%22https%3A%2F%2Fwww.regierung.mittelfranken.bay
 ern.de%2Fservice%2Fplanfeststellung%2Funterlagen%2Fpls-heroldsberg%22%3Eh
 ttps%3A%2F%2Fwww.regierung.mittelfranken.bayern.de%2Fservice%2Fplanfestst
 ellung%2Funterlagen%2Fpls-heroldsberg%3C%2Fa%3E%3C%2Fp%3E%0A%0A%0A%0A%3Cp
 %3EAls%20zweites%20wollen%20wir%20wieder%20Lust%20auf%20das%20STADTRADELN
 %202026%20vom%209.%20%20bis%2029.%20Mai%20machen.%3C%2Fp%3E%0A%0A%0A%0A%3
 Cp%3EWir%20freuen%20uns%20auf%20einen%20sch%C3%B6nen%20Abend%20mit%20anre
 gendem%20Austausch.%3C%2Fp%3E%0A%0A%0A%0A%3Cp%3E%3C%2Fp%3E%0A":Die Herold
 sberger Grünen laden am Donnerstag\, den 23. April\,um 19 Uhr alle Mitgl
 ieder\, Aktive und Interessierten ein zum Grünen Treff im BierRaum\,Haup
 tstraße 67 in Heroldsberg.\n\nWir wollen uns über das Planfeststellungs
 verfahren "B2 Radweg Heroldsberg - Nürnberg" austauschen. Es werden Vert
 reter von ADFC\, VCD und BUND erwartet. Unterlagen (PDF-Dokumente) unterh
 ttps://www.regierung.mittelfranken.bayern.de/service/planfeststellung/unt
 erlagen/pls-heroldsberg\n\nAls zweites wollen wir wieder Lust auf das STA
 DTRADELN 2026 vom 9.  bis 29. Mai machen.\n\nWir freuen uns auf einen sch
 önen Abend mit anregendem Austausch.
CLASS:PUBLIC
DTSTART;TZID=Europe/Berlin:20260423T190000
DTEND;TZID=Europe/Berlin:20260423T220000
DTSTAMP:20260420T143628
END:VEVENT
END:VCALENDAR